0.1000000000
0.0000000000
0.0000000000
-0.1000000000
655950.0500000000
5114049.9500000002
